BEGIN:VCALENDAR
VERSION:2.0
PRODID:-//theafterglow - ECPv6.15.17.1//NONSGML v1.0//EN
CALSCALE:GREGORIAN
METHOD:PUBLISH
X-ORIGINAL-URL:https://theafterglow-centre.com
X-WR-CALDESC:Events for theafterglow
REFRESH-INTERVAL;VALUE=DURATION:PT1H
X-Robots-Tag:noindex
X-PUBLISHED-TTL:PT1H
BEGIN:VTIMEZONE
TZID:UTC
BEGIN:STANDARD
TZOFFSETFROM:+0000
TZOFFSETTO:+0000
TZNAME:UTC
DTSTART:20250101T000000
END:STANDARD
END:VTIMEZONE
BEGIN:VEVENT
DTSTART;TZID=UTC:20260421T183000
DTEND;TZID=UTC:20260421T193000
DTSTAMP:20260423T182846
CREATED:20260313T191739Z
LAST-MODIFIED:20260406T164628Z
UID:4857-1776796200-1776799800@theafterglow-centre.com
SUMMARY:Pre-K Just For Kicks Kickball
DESCRIPTION:Join TAG for our 15th Annual McCartyville – Pre-K Just for Kicks – Kickball Season! For 3 weeks\, every Tuesday & Thursday from 6:30-7:30 pm. Dates: April 21st – May 7th at the McCartyville Ball Diamond. \nCost: $30 per child which includes a team t-shirt and a snack after each game. \nAges: 3-6 years old \nParent Volunteers welcome! \n\n\n                \n\n                        \n                            Kickball Form\n                             \n                        1Parent Information2Emergency Contact3Child Information4Liability & Policies5\n                        \n					Child InformationChild(ren)(Required)Select the plus (+) button to add more information.Name (First)Name (Last)AgeShirt Size    Add   RemoveAddress(Required)    \n                    \n                         \n                                        Street Address\n                                        \n                                   \n                                        Address Line 2\n                                        \n                                    \n                                    City\n                                    \n                                 \n                                        State / Province / Region\n                                        \n                                      \n                                    ZIP / Postal Code\n                                    \n                                \n                                        Country\n                                        AfghanistanAlbaniaAlgeriaAmerican SamoaAndorraAngolaAnguillaAntarcticaAntigua and BarbudaArgentinaArmeniaArubaAustraliaAustriaAzerbaijanBahamasBahrainBangladeshBarbadosBelarusBelgiumBelizeBeninBermudaBhutanBoliviaBonaire\, Sint Eustatius and SabaBosnia and HerzegovinaBotswanaBouvet IslandBrazilBritish Indian Ocean TerritoryBrunei DarussalamBulgariaBurkina FasoBurundiCabo VerdeCambodiaCameroonCanadaCayman IslandsCentral African RepublicChadChileChinaChristmas IslandCocos IslandsColombiaComorosCongoCongo\, Democratic Republic of theCook IslandsCosta RicaCroatiaCubaCuraçaoCyprusCzechiaCôte d'IvoireDenmarkDjiboutiDominicaDominican RepublicEcuadorEgyptEl SalvadorEquatorial GuineaEritreaEstoniaEswatiniEthiopiaFalkland IslandsFaroe IslandsFijiFinlandFranceFrench GuianaFrench PolynesiaFrench Southern TerritoriesGabonGambiaGeorgiaGermanyGhanaGibraltarGreeceGreenlandGrenadaGuadeloupeGuamGuatemalaGuernseyGuineaGuinea-BissauGuyanaHaitiHeard Island and McDonald IslandsHoly SeeHondurasHong KongHungaryIcelandIndiaIndonesiaIranIraqIrelandIsle of ManIsraelItalyJamaicaJapanJerseyJordanKazakhstanKenyaKiribatiKorea\, Democratic People's Republic ofKorea\, Republic ofKuwaitKyrgyzstanLao People's Democratic RepublicLatviaLebanonLesothoLiberiaLibyaLiechtensteinLithuaniaLuxembourgMacaoMadagascarMalawiMalaysiaMaldivesMaliMaltaMarshall IslandsMartiniqueMauritaniaMauritiusMayotteMexicoMicronesiaMoldovaMonacoMongoliaMontenegroMontserratMoroccoMozambiqueMyanmarNamibiaNauruNepalNetherlandsNew CaledoniaNew ZealandNicaraguaNigerNigeriaNiueNorfolk IslandNorth MacedoniaNorthern Mariana IslandsNorwayOmanPakistanPalauPalestine\, State ofPanamaPapua New GuineaParaguayPeruPhilippinesPitcairnPolandPortugalPuerto RicoQatarRomaniaRussian FederationRwandaRéunionSaint BarthélemySaint Helena\, Ascension and Tristan da CunhaSaint Kitts and NevisSaint LuciaSaint MartinSaint Pierre and MiquelonSaint Vincent and the GrenadinesSamoaSan MarinoSao Tome and PrincipeSaudi ArabiaSenegalSerbiaSeychellesSierra LeoneSingaporeSint MaartenSlovakiaSloveniaSolomon IslandsSomaliaSouth AfricaSouth Georgia and the South Sandwich IslandsSouth SudanSpainSri LankaSudanSurinameSvalbard and Jan MayenSwedenSwitzerlandSyria Arab RepublicTaiwanTajikistanTanzania\, the United Republic ofThailandTimor-LesteTogoTokelauTongaTrinidad and TobagoTunisiaTurkmenistanTurks and Caicos IslandsTuvaluTürkiyeUS Minor Outlying IslandsUgandaUkraineUnited Arab EmiratesUnited KingdomUnited StatesUruguayUzbekistanVanuatuVenezuelaViet NamVirgin Islands\, BritishVirgin Islands\, U.S.Wallis and FutunaWestern SaharaYemenZambiaZimbabweÅland Islands \n                                    \n                    \n                \n                    \n                    \n                          \n                    \n                \n                \n                    \n                        Parent InformationParent/Guardian #1 Name(Required)\n                            \n                            \n                                                    \n                                                    First\n                                                \n                            \n                            \n                                                    \n                                                    Last\n                                                \n                            \n                        Contact Information(Required)Cell PhoneWork PhoneEmployerRelationship to Student    Add   RemoveEmail(Required)\n                            \n                        Want to be a Parent Volunteer?\n								\n								Coach\n							\n								\n								Team Captain\n							\n								\n								Snack Provider\n							\n                    \n                    \n                          \n                    \n                \n                \n                    \n                        Emergency ContactEmergency Contact Info(Required)Select the plus (+) button to add more information.Name (First)Name (Last)Phone    Add   RemoveConsent(Required) The contact(s) listed above are authorized to pick up my child(ren).Please include emergency contacts if applicable. Note: Children will not be released other than to those on this list. Photo identification may be required from anyone other than a parent or guardian.\n                    \n                    \n                          \n                    \n                \n                \n                    \n                        Liability & PoliciesAssumption of Risk & Indemnity Agreement(Required) I HAVE READ AND UNDERSTAND THE ASSUMPTION OF RISKS & INDEMNITY AGREEMENT.In consideration of participating at The After-Glow Centre\, I represent that I understand the nature of this activity and that the participant(s) listed above is qualified\, in good health\, and in proper physical condition to participate in such activity. I acknowledge that if I believe event conditions are unsafe\, the above participant(s) will immediately discontinue participation in activity. I fully understand that this activity involves risks of serious bodily injury\, including permanent disability\, paralysis and death\, which may be caused by the above participant(s)’s own actions\, or inactions\, those of others participating in the event\, the conditions in which the event takes place\, or the negligence of the "releases" named below; and that there may be other risks either not known to me and the above participant(s) or not readily foreseeable at this time; and I fully accept and assume all such risks and all responsibility for losses\, costs\, and damages I incur as a result of the above participant(s)’s participation in the activity. I hereby release\, discharge\, and covenant not to sue The After-Glow Centre\, its respective administrators\, directors\, agents\, officers\, volunteers\, employees\, other participants\, any sponsors\, advertisers\, and if applicable\, owners and lessors of premises on which the activity takes place (each are considered "releases") from all liability\, claims\, demands\, losses\, or damages\, on my account caused or alleged to be caused in whole or in part by the negligence of the "releases" or otherwise\, including negligent rescue operations and further agree that if\, despite this waiver and release of liability\, and assumption of risk\, I or anyone on my behalf\, makes a claim against any of the Releasees\, I will indemnify\, save\, and hold harmless each of the Releasees from any loss\, liability\, damage\, or cost\, which any may incur as the result of a such a claim.Release of Liability(Required) I HAVE READ AND AGREE TO THE RELEASE OF LIABILITY.I hereby voluntarily release\, forever discharge\, and agree to indemnify and hold harmless The After-Glow Centre from any and all claims\, demands\, or causes of action\, which are in any way connected with the participant(s) listed above’s participation in these activities or the above participant(s)’s use of The After-Glow Centre's equipment or facilities\, including any such claims which \, I\, my children\, parents\, heirs\, assigns\, personal representative and estate have or may have that allege ordinary negligent acts or omissions of The After-Glow Centre. The above participant(s)’s participation in these activities is purely voluntary\, and they elect to participate in these activities in spite of the risks. I have read the Assumption of Risk\, Indemnity Agreement\, and Release of Liability \, I understand that I have given up substantial rights by signing it and have signed if freely and without any inducement or assurance of any nature and intend to be a complete and unconditional release of liability to the greatest extent allowed by law and agree that any portion of this agreement is held to be invalid the balance\, notwithstanding\, shall continue in full force and effect.Consent of Treatment for Minor(Required) I HAVE CAREFULLY READ THIS CONSENT FOR TREATMENT OF A MINOR AND FULLY UNDERSTAND ITS CONTENTS.Should it be necessary\, in the opinion of a staff member of The After-Glow Centre to render first aid and assistance to the participant(s) listed above\, I hereby grant permission to the staff of The After-Glow Centre and other medical personnel to render such aid and assistance as they may deem necessary.Policy Agreement(Required) I HAVE READ AND UNDERSTAND ALL POLICIES.1. I give permission for the participant(s) listed above to participate in Kids Core activities such as group led enrichment\, arts & crafts\, weekly tidbits\, outdoor play\, etc. at The After-Glow Centre. 2. I give permission for the participant(s) listed above to be included in pictures or other publicity connected with the program\, including Instagram\, Facebook and other social media platforms. 3. I understand that full payment must be made on Mondays each week for my child to attend program. 4. If the participant(s) listed above is not picked up by the designated time\, a $10 late fee will be assessed for each 5 minutes past the designated pick up time.Credit/Debit Card And Bank Checking Account Agreement(Required) I HAVE READ AND UNDERSTAND THE CREDIT/DEBIT CARD AND BANK CHECKING ACCOUNT ON FILE AGREEMENT AND AUTHORIZE THE AFTER-GLOW CENTRE TO CHARGE MY CREDIT/DEBIT CARD OR BANK CHECKING ACCOUNT THE FEES LISTED ABOVE BASED ON MY PROGRAM SELECTION.The After-Glow Centre will hold a credit/debit card or bank checking account on file for payment purposes. Your credit/debit card or bank checking account information will be secure and can only be charged under the terms you specify below. By providing us with your credit/debit card or bank checking account Information\, you authorize The After-Glow Centre to automatically charge your card/account on a weekly basis. Cards/accounts will be run each Monday morning for the current week. Parents will be immediately notified if the card/account on file cannot adequately charge fees. Payment must be completed to secure the child's spot in program. If the credit/debit card or bank checking account information on file changes for any reason\, you must notify The After-Glow Centre as soon as possible. We will maintain a clear record of all payments and charges. An email receipt will be sent to you as soon as the payment goes through.\n                    \n                    \n                          \n                    \n                \n                \n                    \n                        Total Participants(Required)Kickball Registration Fee(Required)\n					\n					\n						Price:\n							\n					\n					\n				Total\n							\n						Credit Card
URL:https://theafterglow-centre.com/event/kickball/
LOCATION:mccartyville ball diamond
CATEGORIES:Event
ATTACH;FMTTYPE=image/png:https://theafterglow-centre.com/wp-content/uploads/2026/03/just-for-kicks-kickball.png
END:VEVENT
BEGIN:VEVENT
DTSTART;TZID=UTC:20260328T180000
DTEND;TZID=UTC:20260328T210000
DTSTAMP:20260423T182846
CREATED:20260101T191227Z
LAST-MODIFIED:20260320T202100Z
UID:4601-1774720800-1774731600@theafterglow-centre.com
SUMMARY:Nerf Extreme KNO
DESCRIPTION:Get ready for an action-packed evening at TAG’s Kids Night Out Nerf Extreme! 🎯 \nJoin us for a night of excitement\, strategy\, and friendly competition as your kids engage in an epic nerf battle! Our gym will be transformed into an ultimate nerf arena\, complete with obstacles and challenges your child won’t want to miss! \nDate: Saturday\, March 28\nTime: 6:00 – 9:00 pm\nAges: 3-11 years\nCost: $15 Member/$20 Non-Member \nTicket Registration is required for this event. All tickets are non-fundable & non-transferable. \n\n                \n\n                        \n                            Kids Night Out Form\n                             \n                        \n        \n        	Step 1 of 3\n        	 \n            \n                33%\n            \n                        \n					Parent/Guardian Name(Required)\n                            \n                            \n                                                    \n                                                    First\n                                                \n                            \n                            \n                                                    \n                                                    Last\n                                                \n                            \n                        Email(Required)\n                            \n                        Phone(Required)Address    \n                    \n                         \n                                        Street Address\n                                        \n                                   \n                                    City\n                                    \n                                 \n                                    ZIP / Postal Code\n                                    \n                                \n                    \n                Participants(Required)Child's NameBirthdate    Add   RemoveEvent Name(Required)Already A TAG Member?YesNoTotal Participants(Required)\n                    \n                    \n                          \n                    \n                \n                \n                    \n                        Please fill out a TAG Waiver for your child(ren)\, if you have never done so.Assumption of Risk & Indemnity AgreementIn consideration of participating at The After-Glow Centre\, I represent that I understand the nature of this activity and that the participant(s) listed above is qualified\, in good health\, and in proper physical condition to participate in such activity. I acknowledge that if I believe event conditions are unsafe\, the above participant(s) will immediately discontinue participation in activity. I fully understand that this activity involves risks of serious bodily injury\, including permanent disability\, paralysis and death\, which may be caused by the above participant(s)’s own actions\, or inactions\, those of others participating in the event\, the conditions in which the event takes place\, or the negligence of the "releases" named below; and that there may be other risks either not known to me and the above participant(s) or not readily foreseeable at this time; and I fully accept and assume all such risks and all responsibility for losses\, costs\, and damages I incur as a result of the above participant(s)’s participation in the activity. I hereby release\, discharge\, and covenant not to sue The After-Glow Centre\, its respective administrators\, directors\, agents\, officers\, volunteers\, employees\, other participants\, any sponsors\, advertisers\, and if applicable\, owners and lessors of premises on which the activity takes place (each are considered "releases") from all liability\, claims\, demands\, losses\, or damages\, on my account caused or alleged to be caused in whole or in part by the negligence of the "releases" or otherwise\, including negligent rescue operations and further agree that if\, despite this waiver and release of liability\, and assumption of risk\, I or anyone on my behalf\, makes a claim against any of the Releasees\, I will indemnify\, save\, and hold harmless each of the Releasees from any loss\, liability\, damage\, or cost\, which any may incur as the result of a such a claim. I HAVE READ AND UNDERSTAND THE ASSUMPTION OF RISKS & INDEMNITY AGREEMENT.Release of Liability:I hereby voluntarily release\, forever discharge\, and agree to indemnify and hold harmless The After-Glow Centre from any and all claims\, demands\, or causes of action\, which are in any way connected with the participant(s) listed above’s participation in these activities or the above participant(s)’s use of The After-Glow Centre's equipment or facilities\, including any such claims which \, I\, my children\, parents\, heirs\, assigns\, personal representative and estate have or may have that allege ordinary negligent acts or omissions of The After-Glow Centre. The above participant(s)’s participation in these activities is purely voluntary\, and they elect to participate in these activities in spite of the risks. I have read the Assumption of Risk\, Indemnity Agreement\, and Release of Liability \, I understand that I have given up substantial rights by signing it and have signed if freely and without any inducement or assurance of any nature and intend to be a complete and unconditional release of liability to the greatest extent allowed by law and agree that any portion of this agreement is held to be invalid the balance\, notwithstanding\, shall continue in full force and effect. I HAVE READ AND AGREE TO THE RELEASE OF LIABILITY.Consent of Treatment for MinorShould it be necessary\, in the opinion of a staff member of The After-Glow Centre to render first aid and assistance to the participant(s) listed above\, I hereby grant permission to the staff of The After-Glow Centre and other medical personnel to render such aid and assistance as they may deem necessary. I HAVE CAREFULLY READ THIS CONSENT FOR TREATMENT OF A MINOR AND FULLY UNDERSTAND ITS CONTENTS.Policy Agreement1. I give permission for the participant(s) listed above to participate in Kids Core activities such as group led enrichment\, arts & crafts\, weekly tidbits\, outdoor play\, etc. at The After-Glow Centre. 2. I give permission for the participant(s) listed above to be included in pictures or other publicity connected with the program\, including Instagram\, Facebook and other social media platforms. 3. I understand that full payment must be made on Mondays each week for my child to attend program. 4. If the participant(s) listed above is not picked up by the designated time\, a $10 late fee will be assessed for each 5 minutes past the designated pick up time. I HAVE READ AND UNDERSTAND ALL POLICIES.Credit/Debit Card And Bank Checking Account AgreementThe After-Glow Centre will hold a credit/debit card or bank checking account on file for payment purposes. Your credit/debit card or bank checking account information will be secure and can only be charged under the terms you specify below. By providing us with your credit/debit card or bank checking account Information\, you authorize The After-Glow Centre to automatically charge your card/account on a weekly basis. Cards/accounts will be run each Monday morning for the current week. Parents will be immediately notified if the card/account on file cannot adequately charge fees. Payment must be completed to secure the child's spot in program. If the credit/debit card or bank checking account information on file changes for any reason\, you must notify The After-Glow Centre as soon as possible. We will maintain a clear record of all payments and charges. An email receipt will be sent to you as soon as the payment goes through. I HAVE READ AND UNDERSTAND THE CREDIT/DEBIT CARD AND BANK CHECKING ACCOUNT ON FILE AGREEMENT AND AUTHORIZE THE AFTER-GLOW CENTRE TO CHARGE MY CREDIT/DEBIT CARD OR BANK CHECKING ACCOUNT THE FEES LISTED ABOVE BASED ON MY PROGRAM SELECTION.\n                    \n                    \n                          \n                    \n                \n                \n                    \n                        Total\n							\n						Credit Card
URL:https://theafterglow-centre.com/event/nerf-extreme/
LOCATION:The After Glow Centre\, 9195 OH-119\, Anna\, OH\, 45302\, United States
CATEGORIES:Event
END:VEVENT
END:VCALENDAR