BEGIN:VCALENDAR
VERSION:2.0
PRODID:-//theafterglow - ECPv6.15.17.1//NONSGML v1.0//EN
CALSCALE:GREGORIAN
METHOD:PUBLISH
X-WR-CALNAME:theafterglow
X-ORIGINAL-URL:http://theafterglow-centre.com
X-WR-CALDESC:Events for theafterglow
REFRESH-INTERVAL;VALUE=DURATION:PT1H
X-Robots-Tag:noindex
X-PUBLISHED-TTL:PT1H
BEGIN:VTIMEZONE
TZID:UTC
BEGIN:STANDARD
TZOFFSETFROM:+0000
TZOFFSETTO:+0000
TZNAME:UTC
DTSTART:20250101T000000
END:STANDARD
END:VTIMEZONE
BEGIN:VEVENT
DTSTART;TZID=UTC:20260518T183000
DTEND;TZID=UTC:20260518T200000
DTSTAMP:20260423T215431
CREATED:20260319T214431Z
LAST-MODIFIED:20260320T200008Z
UID:4874-1779129000-1779134400@theafterglow-centre.com
SUMMARY:TAG End of Season Showcase
DESCRIPTION:Join us as we celebrate our TAG kids at our special End of Season Showcase on Monday\, May 18th at 6:30 pm. The Showcase will be held in the Anna Local High School Gymnasium. Our athletes and students are so excited to show you all that they have accomplished this year! There will be a graduation ceremony for our preschoolers as well as an award ceremony for our students\, and special performances by all. \n★ Adult/Teen Tickets $10\n★ Child Tickets $4 (3-10 years)\n★ Children 2 & under get in free.\n★ All TAG *Preschoolers *Cheerleaders & Dance *Tumblers *Pre-k Gymnastics get to participate & get in free. \nPurchase presale ticket price until Friday\, May 15th. Tickets will be $15/adults & $10/kids at the door. \n\n\n                \n\n                        \n                            TAG End of Season Showcase\n                             \n                        \n        \n        	Step 1 of 3\n        	 \n            \n                33%\n            \n                        \n					Parent/Guardian Name(Required)\n                            \n                            \n                                                    \n                                                    First\n                                                \n                            \n                            \n                                                    \n                                                    Last\n                                                \n                            \n                        Email(Required)\n                            \n                        Phone(Required)TAG Showcase Participants(Required)Students & athletes get in free!Child's First NameChild's Last Name    Add   RemoveAdult Showcase Ticket Quantity11+ years old\n					\n					\n						Price:\n						$10.00\n					\n					\n					 Quantity \n				Child Showcase Ticket QuantityChildren 3-10 years old\n					\n					\n						Price:\n						$4.00\n					\n					\n					 Quantity \n				\n                    \n                    \n                          \n                    \n                \n                \n                    \n                        OPTIONAL ADD ONOPTIONAL ADD ON:\nOrder Your TAG Fan Club Tees for just $20!Size XS Quantity\n					\n					\n						Price:\n						$20.00\n					\n					\n					 Quantity \n				Size S Quantity\n					\n					\n						Price:\n						$20.00\n					\n					\n					 Quantity \n				Size M Quantity\n					\n					\n						Price:\n						$20.00\n					\n					\n					 Quantity \n				Size L Quantity\n					\n					\n						Price:\n						$20.00\n					\n					\n					 Quantity \n				Size XL Quantity\n					\n					\n						Price:\n						$20.00\n					\n					\n					 Quantity \n				Size 2XL Quantity\n					\n					\n						Price:\n						$20.00\n					\n					\n					 Quantity \n				\n                    \n                    \n                          \n                    \n                \n                \n                    \n                        Special Sponsorship SupportOPTIONAL ADD ON: \nPurchase a special page shout out in our Showcase Program to show your support to your favorite student/athlete!1/2 Page Ad Shout Out QuantityIncludes 1/2 page support ad with artwork and your shout out of support.\n					\n					\n						Price:\n						$10.00\n					\n					\n					 Quantity \n				Full Page Ad Shout Out QuantityIncludes full page support ad with artwork and your shout out of support.\n					\n					\n						Price:\n						$20.00\n					\n					\n					 Quantity \n				Please Include Your Ad Text Below:Example: Congratulations Tenley on a successful year! We are so proud of your accomplishments!  Love Mom & Dad\, Grandpa & GrandmaFull Page Ad Photo OptionChoose a photo to use in your ad of/with the student/athlete you are supporting\,Max. file size: 516 MB. Total\n							\n						This page is unsecured. Do not enter a real credit card number! Use this field only for testing purposes. Credit Card
URL:http://theafterglow-centre.com/event/showcase/
LOCATION:Anna Local High School Gymnasium\, 1 McRill Way\, Anna\, 45302\, United States
CATEGORIES:Event
ATTACH;FMTTYPE=image/png:http://theafterglow-centre.com/wp-content/uploads/2026/03/my-fav.png
END:VEVENT
END:VCALENDAR